BEGIN:VCALENDAR
VERSION:2.0
PRODID:-//Boomerang Youth Center &amp; Cafe - ECPv6.15.20//NONSGML v1.0//EN
CALSCALE:GREGORIAN
METHOD:PUBLISH
X-WR-CALNAME:Boomerang Youth Center &amp; Cafe
X-ORIGINAL-URL:https://boomerangcafe.ie
X-WR-CALDESC:Events for Boomerang Youth Center &amp; Cafe
REFRESH-INTERVAL;VALUE=DURATION:PT1H
X-Robots-Tag:noindex
X-PUBLISHED-TTL:PT1H
BEGIN:VTIMEZONE
TZID:Europe/Dublin
BEGIN:STANDARD
TZOFFSETFROM:+0000
TZOFFSETTO:+0100
TZNAME:IST
DTSTART:20320328T010000
END:STANDARD
BEGIN:DAYLIGHT
TZOFFSETFROM:+0100
TZOFFSETTO:+0000
TZNAME:GMT
DTSTART:20321031T010000
END:DAYLIGHT
BEGIN:STANDARD
TZOFFSETFROM:+0000
TZOFFSETTO:+0100
TZNAME:IST
DTSTART:20330327T010000
END:STANDARD
BEGIN:DAYLIGHT
TZOFFSETFROM:+0100
TZOFFSETTO:+0000
TZNAME:GMT
DTSTART:20331030T010000
END:DAYLIGHT
BEGIN:STANDARD
TZOFFSETFROM:+0000
TZOFFSETTO:+0100
TZNAME:IST
DTSTART:20340326T010000
END:STANDARD
BEGIN:DAYLIGHT
TZOFFSETFROM:+0100
TZOFFSETTO:+0000
TZNAME:GMT
DTSTART:20341029T010000
END:DAYLIGHT
END:VTIMEZONE
BEGIN:VEVENT
DTSTART;TZID=Europe/Dublin:20330601T000000
DTEND;TZID=Europe/Dublin:20330601T235900
DTSTAMP:20260422T180633
CREATED:20230613T101506Z
LAST-MODIFIED:20240820T093636Z
UID:1132-2001196800-2001283140@boomerangcafe.ie
SUMMARY:Become A Boomerang Member
DESCRIPTION:Welcome to Boomerang! We’re excited that you’re interested in becoming a member of our youth center. Membership is open to young people aged 11-18\, and costs just €15 per year. \nAs a member of Boomerang\, you’ll have access to all of our programs and activities\, as well as a safe and supportive space to hang out with friends and meet new people. You’ll also have the opportunity to participate in special events\, outings\, and leadership opportunities. \nTo become a member of Boomerang\, simply download and fill out our membership form. You can find the form by clicking the link below. Once you’ve completed the form\, you can either bring it to Boomerang in person or email it to us at receptionboomerang@gmail.com. We’ll process your membership and get back to you within a week. \nMembership dues of €15 can be paid in cash or by card. If you need financial assistance\, please contact us to learn about our payment program. \nThank you for your interest in Boomerang! We look forward to welcoming you as a member of our community. If you have any questions about membership or our programs and services\, please don’t hesitate to contact us.
URL:https://boomerangcafe.ie/event/become-a-boomerang-member/
LOCATION:Boomerang Youth Center & Cafe\, 62 Fair St\,\, Downtown Drogheda\,\, Drogheda\, Louth\, A92 HX40\, Ireland
ORGANIZER;CN="Boomerang Cafe":MAILTO:ReceptionBoomerang@gmail.com
END:VEVENT
END:VCALENDAR